Workbook
Name Classificação_do_Fornecedor: #REF!
Name Disponibilidade: #REF!
Name Fornecedor: #REF!
Name resultado: Table9[]
Name resultado: Table9[]
Name resultado: Table9[]
Name resultado: Table9[]
Name resultado: Table9[]
Name resultado: Table9[]

Sheet Introdução 
A1: Template | Due Diligence por Nível de Risco
A2: Nessa aba você encontrará as informações gerais sobre o uso desta Planilha
B4: OBJETIVO DESTA PLANILHA | J4: INSTRUÇÕES DE USO
J6: Passo 1
B12: SOBRE O CLICKCOMPLIANCE
J16: Passo 2
J24: Passo 3
J31: Resultado

Sheet Identificação
A1: {=_xlfn.CONCAT(C5," | Due Diligence | ", MID(CELL("filename",A1),FIND("]",CELL("filename",B6))+1,255))} -> Nome do Fornecedor | Due Diligence | Identificação
A2: Preencha a tabela abaixo com os dados do Fornecedor a ser avaliado
C4: Preencha esta coluna
B5: Nome Fantasia | C5: Nome do Fornecedor
B6: Razão Social | C6: Razão social do fornecedor
B7: CNPJ | C7: CNPJ do Fornecedor
B8: CNAE (Classificação Nacional de Atividades Econômicas) | C8: CNAE do Fornecedor
B9: Contato | C9: Contato do Fornecedor
B10: Sócios e Administradores | C10: Sócios e Administradores do Fornecedor
B11: Endereço | C11: Endereço do Fornecedor
B12: Principais Clientes (credenciais) | C12: Principais Clientes do Fornecedor
B13: Objeto/natureza do serviço a ser contratado | C13: Objeto / Natureza do Serviço

Sheet Classificação
A1: {=_xlfn.CONCAT(Identificação!C5," | Due Diligence | ", MID(CELL("filename",A1),FIND("]",CELL("filename",B4))+1,255))} -> Nome do Fornecedor | Due Diligence | Classificação
A2: Preencha a tabela abaixo com os dados do Fornecedor a ser avaliado
B4: OBJ01 | C4: Objeto/natureza do serviço a ser contratado | D4: Associação Desportiva
B5: VAL01 | C5: Valor estimado do produto/serviço para essa demanda
B6: VAL02 | C6: Valor anual estimado de compras junto a esse fornecedor
B8: Código | C8: Critério | D8: Resposta (Sim / Não)
B9: =Verificação!B5 -> VF01 | C9: =Verificação!C5 -> Há envolvimento com Agente Público?
B10: =Verificação!B6 -> VF02 | C10: =Verificação!C6 -> Acordo de Joint Venture?
B11: =Verificação!B7 -> VF03 | C11: =Verificação!C7 -> Acordo relativo a distribuição ou venda de produtos ou serviços?
B12: =Verificação!B8 -> VF04 | C12: =Verificação!C8 -> Contratos relativos a compras de licenças ou registros (software)?
B13: =Verificação!B9 -> VF05 | C13: =Verificação!C9 -> Serviço de Consultoria Estratégica e/ou de Negócios (Planejamento Estratégico, Auditoria, Recursos Humanos, etc.)?
B17: Classificação sugerida | C17: {=_xlfn.LET(_xlpm.FLAG,MAX(_xlfn.IFNA(INDEX(classificacao[],_xlfn.XMATCH(verificacao[Código],classificacao[Código]),3)=verificacao[Resposta],FALSE)*verificacao[Nível]),_xlpm.OBJ,_xlfn.XLOOKUP($D$4,nivel_natureza[Natureza],nivel_natureza[Nível],0,0,1),_xlpm.VAL,_xlfn.XLOOKUP(Classificação!$D$5,nivel_compra[Valor máx demanda],nivel_compra[Nível],1,1),_xlpm.VALT,_xlfn.XLOOKUP(Classificação!$D$6,nivel_compra[[ Valor máx anual]],nivel_compra[Nível],0,1,1),_xlpm.NIVEL,MAX(_xlpm.FLAG,_xlpm.OBJ,_xlpm.VAL,_xlpm.VALT),_xlfn.XLOOKUP(_xlpm.NIVEL,nivel_risco[Nivel],nivel_risco[Risco],"Erro",0,1))} -> Alto
B18: Classificação utilizada | C18: Baixo
B20: Justificativa | C20: Justifique aqui caso exista uma divergência entra a classificação sugerida e a classificação utilizada.

Sheet Compras
A1: {=_xlfn.CONCAT(Identificação!C5," | Due Diligence | ", MID(CELL("filename",A1),FIND("]",CELL("filename",B5))+1,255))} -> Nome do Fornecedor | Due Diligence | Compras
A2: {=_xlfn.CONCAT("A tabela abaixo deverá ser preenchida pela equipe de ", MID(CELL("filename",A1),FIND("]",CELL("filename",B5))+1,255), " da sua empresa")} -> A tabela abaixo deverá ser preenchida pela equipe de Compras da sua empresa
A3: =_xlfn.XLOOKUP(Classificação!C18,nivel_risco[Risco],nivel_risco[Nivel]) -> 1 | B3: {=MID(CELL("filename",A3),FIND("]",CELL("filename",A3))+1,255)} -> Compras
B5: Código | C5: Critério | D5: Resposta (Sim / Não)
B6: {=IFERROR(INDEX(criterios[],SMALL(IF((INDEX(criterios[],,1)=$B$3)*(INDEX(criterios[],,2)<=$A$3),MATCH(ROW(criterios[Criterio]),ROW(criterios[Criterio])),""),ROWS($X$6:$X6)),3),"")} -> OV01 | C6: =_xlfn.XLOOKUP(overview[[#This Row],[Código]],criterios[codigo],criterios[Criterio],"",0,1) -> O fornecedor tem as experiências e credenciais necessárias para atender a demanda?
B7: {=IFERROR(INDEX(criterios[],SMALL(IF((INDEX(criterios[],,1)=#REF!)*(INDEX(criterios[],,2)<=#REF!),MATCH(ROW(criterios[Criterio]),ROW(criterios[Criterio])),""),ROWS($X$6:$X7)),3),"")} | C7: =_xlfn.XLOOKUP(overview[[#This Row],[Código]],criterios[codigo],criterios[Criterio],"",0,1)
B8: {=IFERROR(INDEX(criterios[],SMALL(IF((INDEX(criterios[],,1)=#REF!)*(INDEX(criterios[],,2)<=#REF!),MATCH(ROW(criterios[Criterio]),ROW(criterios[Criterio])),""),ROWS($X$6:$X8)),3),"")} | C8: =_xlfn.XLOOKUP(overview[[#This Row],[Código]],criterios[codigo],criterios[Criterio],"",0,1)
B9: {=IFERROR(INDEX(criterios[],SMALL(IF((INDEX(criterios[],,1)=#REF!)*(INDEX(criterios[],,2)<=#REF!),MATCH(ROW(criterios[Criterio]),ROW(criterios[Criterio])),""),ROWS($X$6:$X9)),3),"")} | C9: =_xlfn.XLOOKUP(overview[[#This Row],[Código]],criterios[codigo],criterios[Criterio],"",0,1)
B10: {=IFERROR(INDEX(criterios[],SMALL(IF((INDEX(criterios[],,1)=#REF!)*(INDEX(criterios[],,2)<=#REF!),MATCH(ROW(criterios[Criterio]),ROW(criterios[Criterio])),""),ROWS($X$6:$X10)),3),"")} | C10: =_xlfn.XLOOKUP(overview[[#This Row],[Código]],criterios[codigo],criterios[Criterio],"",0,1)
B11: {=IFERROR(INDEX(criterios[],SMALL(IF((INDEX(criterios[],,1)=#REF!)*(INDEX(criterios[],,2)<=#REF!),MATCH(ROW(criterios[Criterio]),ROW(criterios[Criterio])),""),ROWS($X$6:$X11)),3),"")} | C11: =_xlfn.XLOOKUP(overview[[#This Row],[Código]],criterios[codigo],criterios[Criterio],"",0,1)
B12: {=IFERROR(INDEX(criterios[],SMALL(IF((INDEX(criterios[],,1)=#REF!)*(INDEX(criterios[],,2)<=#REF!),MATCH(ROW(criterios[Criterio]),ROW(criterios[Criterio])),""),ROWS($X$6:$X12)),3),"")} | C12: =_xlfn.XLOOKUP(overview[[#This Row],[Código]],criterios[codigo],criterios[Criterio],"",0,1)
B13: {=IFERROR(INDEX(criterios[],SMALL(IF((INDEX(criterios[],,1)=#REF!)*(INDEX(criterios[],,2)<=#REF!),MATCH(ROW(criterios[Criterio]),ROW(criterios[Criterio])),""),ROWS($X$6:$X13)),3),"")} | C13: =_xlfn.XLOOKUP(overview[[#This Row],[Código]],criterios[codigo],criterios[Criterio],"",0,1)
B14: {=IFERROR(INDEX(criterios[],SMALL(IF((INDEX(criterios[],,1)=#REF!)*(INDEX(criterios[],,2)<=#REF!),MATCH(ROW(criterios[Criterio]),ROW(criterios[Criterio])),""),ROWS($X$6:$X14)),3),"")} | C14: =_xlfn.XLOOKUP(overview[[#This Row],[Código]],criterios[codigo],criterios[Criterio],"",0,1)
B15: {=IFERROR(INDEX(criterios[],SMALL(IF((INDEX(criterios[],,1)=#REF!)*(INDEX(criterios[],,2)<=#REF!),MATCH(ROW(criterios[Criterio]),ROW(criterios[Criterio])),""),ROWS($X$6:$X15)),3),"")} | C15: =_xlfn.XLOOKUP(overview[[#This Row],[Código]],criterios[codigo],criterios[Criterio],"",0,1)
B16: {=IFERROR(INDEX(criterios[],SMALL(IF((INDEX(criterios[],,1)=#REF!)*(INDEX(criterios[],,2)<=#REF!),MATCH(ROW(criterios[Criterio]),ROW(criterios[Criterio])),""),ROWS($X$6:$X16)),3),"")} | C16: =_xlfn.XLOOKUP(overview[[#This Row],[Código]],criterios[codigo],criterios[Criterio],"",0,1)
B17: {=IFERROR(INDEX(criterios[],SMALL(IF((INDEX(criterios[],,1)=#REF!)*(INDEX(criterios[],,2)<=#REF!),MATCH(ROW(criterios[Criterio]),ROW(criterios[Criterio])),""),ROWS($X$6:$X17)),3),"")} | C17: =_xlfn.XLOOKUP(overview[[#This Row],[Código]],criterios[codigo],criterios[Criterio],"",0,1)
C19: Legendas | D19: Falta ser preenchido
D20: Resposta positiva
D21: Resposta negativa

Sheet Compliance
A1: {=_xlfn.CONCAT(Identificação!C5," | Due Diligence | ", MID(CELL("filename",A1),FIND("]",CELL("filename",B5))+1,255))} -> Nome do Fornecedor | Due Diligence | Compliance
A2: {=_xlfn.CONCAT("A tabela abaixo deverá ser preenchida pela equipe de ", MID(CELL("filename",A1),FIND("]",CELL("filename",B5))+1,255), " da sua empresa")} -> A tabela abaixo deverá ser preenchida pela equipe de Compliance da sua empresa
A3: =_xlfn.XLOOKUP(Classificação!C17,nivel_risco[Risco],nivel_risco[Nivel]) -> 3 | B3: {=MID(CELL("filename",A3),FIND("]",CELL("filename",A3))+1,255)} -> Compliance
B5: Código | C5: Critério | D5: Resposta (Sim / Não)
B6: {=IFERROR(INDEX(criterios[],SMALL(IF((INDEX(criterios[],,1)=$B$3)*(INDEX(criterios[],,2)<=$A$3),MATCH(ROW(criterios[Criterio]),ROW(criterios[Criterio])),""),ROWS($X$6:$X6)),3),"")} -> CP01 | C6: =_xlfn.XLOOKUP(compliance[[#This Row],[Código]],criterios[codigo],criterios[Criterio],"",0,1) -> Existe situação de conflito de interesses? (Empregados/dependentes x Sócios/Administradores/Profissionais envolvidos na negociação/Pessoas relacionadas)
B7: {=IFERROR(INDEX(criterios[],SMALL(IF((INDEX(criterios[],,1)=$B$3)*(INDEX(criterios[],,2)<=$A$3),MATCH(ROW(criterios[Criterio]),ROW(criterios[Criterio])),""),ROWS($X$6:$X7)),3),"")} -> CP02 | C7: =_xlfn.XLOOKUP(compliance[[#This Row],[Código]],criterios[codigo],criterios[Criterio],"",0,1) -> Buscas na internet e mídia revelam problemas graves relativos à reputação e integridade do fornecedor?
B8: {=IFERROR(INDEX(criterios[],SMALL(IF((INDEX(criterios[],,1)=$B$3)*(INDEX(criterios[],,2)<=$A$3),MATCH(ROW(criterios[Criterio]),ROW(criterios[Criterio])),""),ROWS($X$6:$X8)),3),"")} -> CP03 | C8: =_xlfn.XLOOKUP(compliance[[#This Row],[Código]],criterios[codigo],criterios[Criterio],"",0,1) -> O fornecedor (e seus sócios/administradores) foi ou é réu em ações judiciais/administrativas, inquéritos civis ou policiais relacionados a descumprimento das leis e/ou desvios de conduta em geral?
B9: {=IFERROR(INDEX(criterios[],SMALL(IF((INDEX(criterios[],,1)=$B$3)*(INDEX(criterios[],,2)<=$A$3),MATCH(ROW(criterios[Criterio]),ROW(criterios[Criterio])),""),ROWS($X$6:$X9)),3),"")} -> CP04 | C9: =_xlfn.XLOOKUP(compliance[[#This Row],[Código]],criterios[codigo],criterios[Criterio],"",0,1) -> O fornecedor tem relação familiar/parentesco com agentes do públicos?
B10: {=IFERROR(INDEX(criterios[],SMALL(IF((INDEX(criterios[],,1)=$B$3)*(INDEX(criterios[],,2)<=$A$3),MATCH(ROW(criterios[Criterio]),ROW(criterios[Criterio])),""),ROWS($X$6:$X10)),3),"")} -> CP05 | C10: =_xlfn.XLOOKUP(compliance[[#This Row],[Código]],criterios[codigo],criterios[Criterio],"",0,1) -> O fornecedor possui algum sócio que é agente do público ou familar/parente do agente público?
B11: {=IFERROR(INDEX(criterios[],SMALL(IF((INDEX(criterios[],,1)=$B$3)*(INDEX(criterios[],,2)<=$A$3),MATCH(ROW(criterios[Criterio]),ROW(criterios[Criterio])),""),ROWS($X$6:$X11)),3),"")} -> CP06 | C11: =_xlfn.XLOOKUP(compliance[[#This Row],[Código]],criterios[codigo],criterios[Criterio],"",0,1) -> O fornecedor já trabalhou como agente público em um nível elevado, ou em uma agência/órgão relevante para o trabalho que vai realizar?
B12: {=IFERROR(INDEX(criterios[],SMALL(IF((INDEX(criterios[],,1)=$B$3)*(INDEX(criterios[],,2)<=$A$3),MATCH(ROW(criterios[Criterio]),ROW(criterios[Criterio])),""),ROWS($X$6:$X12)),3),"")} -> CP07 | C12: =_xlfn.XLOOKUP(compliance[[#This Row],[Código]],criterios[codigo],criterios[Criterio],"",0,1) -> Foram identificados “Red Flags”?
B13: {=IFERROR(INDEX(criterios[],SMALL(IF((INDEX(criterios[],,1)=$B$3)*(INDEX(criterios[],,2)<=$A$3),MATCH(ROW(criterios[Criterio]),ROW(criterios[Criterio])),""),ROWS($X$6:$X13)),3),"")} -> CP08 | C13: =_xlfn.XLOOKUP(compliance[[#This Row],[Código]],criterios[codigo],criterios[Criterio],"",0,1) -> Foi identificado alto risco relacionado à Segurança da Informação? (compartilhamento de dados, fragilidades quanto a integridade, confidencialidade ou disponibilidade, não atendimento a LGPD, etc.)?
B14: {=IFERROR(INDEX(criterios[],SMALL(IF((INDEX(criterios[],,1)=$B$3)*(INDEX(criterios[],,2)<=$A$3),MATCH(ROW(criterios[Criterio]),ROW(criterios[Criterio])),""),ROWS($X$6:$X14)),3),"")} -> CP09 | C14: =_xlfn.XLOOKUP(compliance[[#This Row],[Código]],criterios[codigo],criterios[Criterio],"",0,1) -> Na prestação de serviço o fornecedor envolverá a participação de representantes externos ou subcontratados ?
B15: {=IFERROR(INDEX(criterios[],SMALL(IF((INDEX(criterios[],,1)=$B$3)*(INDEX(criterios[],,2)<=$A$3),MATCH(ROW(criterios[Criterio]),ROW(criterios[Criterio])),""),ROWS($X$6:$X15)),3),"")} | C15: =_xlfn.XLOOKUP(compliance[[#This Row],[Código]],criterios[codigo],criterios[Criterio],"",0,1)
B16: {=IFERROR(INDEX(criterios[],SMALL(IF((INDEX(criterios[],,1)=$B$3)*(INDEX(criterios[],,2)<=$A$3),MATCH(ROW(criterios[Criterio]),ROW(criterios[Criterio])),""),ROWS($X$6:$X16)),3),"")} | C16: =_xlfn.XLOOKUP(compliance[[#This Row],[Código]],criterios[codigo],criterios[Criterio],"",0,1)
B17: {=IFERROR(INDEX(criterios[],SMALL(IF((INDEX(criterios[],,1)=$B$3)*(INDEX(criterios[],,2)<=$A$3),MATCH(ROW(criterios[Criterio]),ROW(criterios[Criterio])),""),ROWS($X$6:$X17)),3),"")} | C17: =_xlfn.XLOOKUP(compliance[[#This Row],[Código]],criterios[codigo],criterios[Criterio],"",0,1)
C19: Legendas | D19: Falta ser preenchido
D20: Resposta positiva
D21: Resposta negativa

Sheet Financeiro
A1: {=_xlfn.CONCAT(Identificação!C5," | Due Diligence | ", MID(CELL("filename",A1),FIND("]",CELL("filename",B5))+1,255))} -> Nome do Fornecedor | Due Diligence | Financeiro
A2: {=_xlfn.CONCAT("A tabela abaixo deverá ser preenchida pela equipe de ", MID(CELL("filename",A1),FIND("]",CELL("filename",B5))+1,255), " da sua empresa")} -> A tabela abaixo deverá ser preenchida pela equipe de Financeiro da sua empresa
A3: =_xlfn.XLOOKUP(Classificação!C17,nivel_risco[Risco],nivel_risco[Nivel]) -> 3 | B3: {=MID(CELL("filename",A3),FIND("]",CELL("filename",A3))+1,255)} -> Financeiro
B5: Código | C5: Critério | D5: Resposta (Sim / Não)
B6: {=IFERROR(INDEX(criterios[],SMALL(IF((INDEX(criterios[],,1)=$B$3)*(INDEX(criterios[],,2)<=$A$3),MATCH(ROW(criterios[Criterio]),ROW(criterios[Criterio])),""),ROWS($X$6:$X6)),3),"")} -> FI01 | C6: =_xlfn.XLOOKUP(financeiro[[#This Row],[Código]],criterios[codigo],criterios[Criterio],"",0,1) -> Foi realizado processo de RFP (Request for Proposal)?
B7: {=IFERROR(INDEX(criterios[],SMALL(IF((INDEX(criterios[],,1)=$B$3)*(INDEX(criterios[],,2)<=$A$3),MATCH(ROW(criterios[Criterio]),ROW(criterios[Criterio])),""),ROWS($X$6:$X7)),3),"")} -> FI02 | C7: =_xlfn.XLOOKUP(financeiro[[#This Row],[Código]],criterios[codigo],criterios[Criterio],"",0,1) -> Foi obtida a quantidade mínima de cotações?
B8: {=IFERROR(INDEX(criterios[],SMALL(IF((INDEX(criterios[],,1)=$B$3)*(INDEX(criterios[],,2)<=$A$3),MATCH(ROW(criterios[Criterio]),ROW(criterios[Criterio])),""),ROWS($X$6:$X8)),3),"")} -> FI03 | C8: =_xlfn.XLOOKUP(financeiro[[#This Row],[Código]],criterios[codigo],criterios[Criterio],"",0,1) -> O fornecedor possui alto risco de crédito e probabilidade de inadimplência, de acordo com o Órgão de Proteção ao Crédito (Serasa, Boa Vista, etc.)?
B9: {=IFERROR(INDEX(criterios[],SMALL(IF((INDEX(criterios[],,1)=$B$3)*(INDEX(criterios[],,2)<=$A$3),MATCH(ROW(criterios[Criterio]),ROW(criterios[Criterio])),""),ROWS($X$6:$X9)),3),"")} -> FI04 | C9: =_xlfn.XLOOKUP(financeiro[[#This Row],[Código]],criterios[codigo],criterios[Criterio],"",0,1) -> O fornecedor possui baixo índice de Liquidez (capacidade do fornecedor pagar as suas dívidas)?
B10: {=IFERROR(INDEX(criterios[],SMALL(IF((INDEX(criterios[],,1)=$B$3)*(INDEX(criterios[],,2)<=$A$3),MATCH(ROW(criterios[Criterio]),ROW(criterios[Criterio])),""),ROWS($X$6:$X10)),3),"")} -> FI05 | C10: =_xlfn.XLOOKUP(financeiro[[#This Row],[Código]],criterios[codigo],criterios[Criterio],"",0,1) -> Existe alto percentual de participação da sua empresa nas vendas do fornecedor (dependência financeira do terceiro)?
B11: {=IFERROR(INDEX(criterios[],SMALL(IF((INDEX(criterios[],,1)=$B$3)*(INDEX(criterios[],,2)<=$A$3),MATCH(ROW(criterios[Criterio]),ROW(criterios[Criterio])),""),ROWS($X$6:$X11)),3),"")} -> FI06 | C11: =_xlfn.XLOOKUP(financeiro[[#This Row],[Código]],criterios[codigo],criterios[Criterio],"",0,1) -> O nível de solvência do fornecedor indica alta probabilidade de falência?
B12: {=IFERROR(INDEX(criterios[],SMALL(IF((INDEX(criterios[],,1)=$B$3)*(INDEX(criterios[],,2)<=$A$3),MATCH(ROW(criterios[Criterio]),ROW(criterios[Criterio])),""),ROWS($X$6:$X12)),3),"")} | C12: =_xlfn.XLOOKUP(financeiro[[#This Row],[Código]],criterios[codigo],criterios[Criterio],"",0,1)
B13: {=IFERROR(INDEX(criterios[],SMALL(IF((INDEX(criterios[],,1)=$B$3)*(INDEX(criterios[],,2)<=$A$3),MATCH(ROW(criterios[Criterio]),ROW(criterios[Criterio])),""),ROWS($X$6:$X13)),3),"")} | C13: =_xlfn.XLOOKUP(financeiro[[#This Row],[Código]],criterios[codigo],criterios[Criterio],"",0,1)
B14: {=IFERROR(INDEX(criterios[],SMALL(IF((INDEX(criterios[],,1)=$B$3)*(INDEX(criterios[],,2)<=$A$3),MATCH(ROW(criterios[Criterio]),ROW(criterios[Criterio])),""),ROWS($X$6:$X14)),3),"")} | C14: =_xlfn.XLOOKUP(financeiro[[#This Row],[Código]],criterios[codigo],criterios[Criterio],"",0,1)
B15: {=IFERROR(INDEX(criterios[],SMALL(IF((INDEX(criterios[],,1)=$B$3)*(INDEX(criterios[],,2)<=$A$3),MATCH(ROW(criterios[Criterio]),ROW(criterios[Criterio])),""),ROWS($X$6:$X15)),3),"")} | C15: =_xlfn.XLOOKUP(financeiro[[#This Row],[Código]],criterios[codigo],criterios[Criterio],"",0,1)
B16: {=IFERROR(INDEX(criterios[],SMALL(IF((INDEX(criterios[],,1)=$B$3)*(INDEX(criterios[],,2)<=$A$3),MATCH(ROW(criterios[Criterio]),ROW(criterios[Criterio])),""),ROWS($X$6:$X16)),3),"")} | C16: =_xlfn.XLOOKUP(financeiro[[#This Row],[Código]],criterios[codigo],criterios[Criterio],"",0,1)
B17: {=IFERROR(INDEX(criterios[],SMALL(IF((INDEX(criterios[],,1)=$B$3)*(INDEX(criterios[],,2)<=$A$3),MATCH(ROW(criterios[Criterio]),ROW(criterios[Criterio])),""),ROWS($X$6:$X17)),3),"")} | C17: =_xlfn.XLOOKUP(financeiro[[#This Row],[Código]],criterios[codigo],criterios[Criterio],"",0,1)
C19: Legendas | D19: Falta ser preenchido
D20: Resposta positiva
D21: Resposta negativa

Sheet Legal
A1: {=_xlfn.CONCAT(Identificação!C5," | Due Diligence | ", MID(CELL("filename",A1),FIND("]",CELL("filename",A3))+1,255))} -> Nome do Fornecedor | Due Diligence | Legal
A2: {=_xlfn.CONCAT("A tabela abaixo deverá ser preenchida pela equipe de ", MID(CELL("filename",A1),FIND("]",CELL("filename",B5))+1,255), " da sua empresa")} -> A tabela abaixo deverá ser preenchida pela equipe de Legal da sua empresa
A3: =_xlfn.XLOOKUP(Classificação!C18,nivel_risco[Risco],nivel_risco[Nivel]) -> 1 | B3: {=MID(CELL("filename",A3),FIND("]",CELL("filename",A3))+1,255)} -> Legal
B5: Código | C5: Critério | D5: Resposta (Sim / Não)
B6: {=IFERROR(INDEX(criterios[],SMALL(IF((INDEX(criterios[],,1)=$B$3)*(INDEX(criterios[],,2)<=$A$3),MATCH(ROW(criterios[Criterio]),ROW(criterios[Criterio])),""),ROWS($X$6:$X6)),3),"")} | C6: =_xlfn.XLOOKUP(legal[[#This Row],[Código]],criterios[codigo],criterios[Criterio],"",0,1)
B7: {=IFERROR(INDEX(criterios[],SMALL(IF((INDEX(criterios[],,1)=$B$3)*(INDEX(criterios[],,2)<=$A$3),MATCH(ROW(criterios[Criterio]),ROW(criterios[Criterio])),""),ROWS($X$6:$X7)),3),"")} | C7: =_xlfn.XLOOKUP(legal[[#This Row],[Código]],criterios[codigo],criterios[Criterio],"",0,1)
B8: {=IFERROR(INDEX(criterios[],SMALL(IF((INDEX(criterios[],,1)=$B$3)*(INDEX(criterios[],,2)<=$A$3),MATCH(ROW(criterios[Criterio]),ROW(criterios[Criterio])),""),ROWS($X$6:$X8)),3),"")} | C8: =_xlfn.XLOOKUP(legal[[#This Row],[Código]],criterios[codigo],criterios[Criterio],"",0,1)
B9: {=IFERROR(INDEX(criterios[],SMALL(IF((INDEX(criterios[],,1)=$B$3)*(INDEX(criterios[],,2)<=$A$3),MATCH(ROW(criterios[Criterio]),ROW(criterios[Criterio])),""),ROWS($X$6:$X9)),3),"")} | C9: =_xlfn.XLOOKUP(legal[[#This Row],[Código]],criterios[codigo],criterios[Criterio],"",0,1)
B10: {=IFERROR(INDEX(criterios[],SMALL(IF((INDEX(criterios[],,1)=$B$3)*(INDEX(criterios[],,2)<=$A$3),MATCH(ROW(criterios[Criterio]),ROW(criterios[Criterio])),""),ROWS($X$6:$X10)),3),"")} | C10: =_xlfn.XLOOKUP(legal[[#This Row],[Código]],criterios[codigo],criterios[Criterio],"",0,1)
B11: {=IFERROR(INDEX(criterios[],SMALL(IF((INDEX(criterios[],,1)=$B$3)*(INDEX(criterios[],,2)<=$A$3),MATCH(ROW(criterios[Criterio]),ROW(criterios[Criterio])),""),ROWS($X$6:$X11)),3),"")} | C11: =_xlfn.XLOOKUP(legal[[#This Row],[Código]],criterios[codigo],criterios[Criterio],"",0,1)
B12: {=IFERROR(INDEX(criterios[],SMALL(IF((INDEX(criterios[],,1)=$B$3)*(INDEX(criterios[],,2)<=$A$3),MATCH(ROW(criterios[Criterio]),ROW(criterios[Criterio])),""),ROWS($X$6:$X12)),3),"")} | C12: =_xlfn.XLOOKUP(legal[[#This Row],[Código]],criterios[codigo],criterios[Criterio],"",0,1)
B13: {=IFERROR(INDEX(criterios[],SMALL(IF((INDEX(criterios[],,1)=$B$3)*(INDEX(criterios[],,2)<=$A$3),MATCH(ROW(criterios[Criterio]),ROW(criterios[Criterio])),""),ROWS($X$6:$X13)),3),"")} | C13: =_xlfn.XLOOKUP(legal[[#This Row],[Código]],criterios[codigo],criterios[Criterio],"",0,1)
B14: {=IFERROR(INDEX(criterios[],SMALL(IF((INDEX(criterios[],,1)=$B$3)*(INDEX(criterios[],,2)<=$A$3),MATCH(ROW(criterios[Criterio]),ROW(criterios[Criterio])),""),ROWS($X$6:$X14)),3),"")} | C14: =_xlfn.XLOOKUP(legal[[#This Row],[Código]],criterios[codigo],criterios[Criterio],"",0,1)
B15: {=IFERROR(INDEX(criterios[],SMALL(IF((INDEX(criterios[],,1)=$B$3)*(INDEX(criterios[],,2)<=$A$3),MATCH(ROW(criterios[Criterio]),ROW(criterios[Criterio])),""),ROWS($X$6:$X15)),3),"")} | C15: =_xlfn.XLOOKUP(legal[[#This Row],[Código]],criterios[codigo],criterios[Criterio],"",0,1)
B16: {=IFERROR(INDEX(criterios[],SMALL(IF((INDEX(criterios[],,1)=$B$3)*(INDEX(criterios[],,2)<=$A$3),MATCH(ROW(criterios[Criterio]),ROW(criterios[Criterio])),""),ROWS($X$6:$X16)),3),"")} | C16: =_xlfn.XLOOKUP(legal[[#This Row],[Código]],criterios[codigo],criterios[Criterio],"",0,1)
B17: {=IFERROR(INDEX(criterios[],SMALL(IF((INDEX(criterios[],,1)=$B$3)*(INDEX(criterios[],,2)<=$A$3),MATCH(ROW(criterios[Criterio]),ROW(criterios[Criterio])),""),ROWS($X$6:$X17)),3),"")} | C17: =_xlfn.XLOOKUP(legal[[#This Row],[Código]],criterios[codigo],criterios[Criterio],"",0,1)
C19: Legendas | D19: Falta ser preenchido
D20: Resposta positiva
D21: Resposta negativa

Sheet Resultado
A1: {=_xlfn.CONCAT(Identificação!C5," | Due Diligence | ", MID(CELL("filename",A1),FIND("]",CELL("filename",A4))+1,255))} -> Nome do Fornecedor | Due Diligence | Resultado
A2: Aqui você encontra o resultado do cálculo de risco do fornecedor
B4: Departamento | C4: Pontução | D4: Alertas | E4: Máximo
B5: Compras | C5: {=SUM(_xlfn.IFNA(INDEX(overview[],_xlfn.XMATCH(criterios[codigo],overview[Código]),3)=criterios[Resposta],FALSE)*criterios[Pontuação])} -> 0 | D5: {=SUM(_xlfn.IFNA(INDEX(overview[],_xlfn.XMATCH(criterios[codigo],overview[Código]),3)=criterios[Resposta],FALSE)*1)} -> 0 | E5: =SUMIF(criterios[Departamento],Table9[[#This Row],[Departamento]],criterios[Pontuação]) -> 200
B6: Compliance | C6: {=SUM(_xlfn.IFNA(INDEX(compliance[],_xlfn.XMATCH(criterios[codigo],compliance[Código]),3)=criterios[Resposta],FALSE)*criterios[Pontuação])} -> 0 | D6: {=SUM(_xlfn.IFNA(INDEX(compliance[],_xlfn.XMATCH(criterios[codigo],compliance[Código]),3)=criterios[Resposta],FALSE)*1)} -> 0 | E6: =SUMIF(criterios[Departamento],Table9[[#This Row],[Departamento]],criterios[Pontuação]) -> 750
B7: Financeiro | C7: {=SUM(_xlfn.IFNA(INDEX(financeiro[],_xlfn.XMATCH(criterios[codigo],financeiro[Código]),3)=criterios[Resposta],FALSE)*criterios[Pontuação])} -> 0 | D7: {=SUM(_xlfn.IFNA(INDEX(financeiro[],_xlfn.XMATCH(criterios[codigo],financeiro[Código]),3)=criterios[Resposta],FALSE)*1)} -> 0 | E7: =SUMIF(criterios[Departamento],Table9[[#This Row],[Departamento]],criterios[Pontuação]) -> 400
B8: Legal | C8: {=SUM(_xlfn.IFNA(INDEX(legal[],_xlfn.XMATCH(criterios[codigo],legal[Código]),3)=criterios[Resposta],FALSE)*criterios[Pontuação])} -> 0 | D8: {=SUM(_xlfn.IFNA(INDEX(legal[],_xlfn.XMATCH(criterios[codigo],legal[Código]),3)=criterios[Resposta],FALSE)*1)} -> 0 | E8: =SUMIF(criterios[Departamento],Table9[[#This Row],[Departamento]],criterios[Pontuação]) -> 300
B9: Total | C9: =SUBTOTAL(109,Table9[Pontução]) -> 0 | D9: =SUBTOTAL(109,Table9[Alertas]) -> 0 | E9: =SUBTOTAL(109,Table9[Máximo]) -> 1650
B11: Rating | C11: =_xlfn.XLOOKUP(Table9[[#Totals],[Pontução]],nivel_resultado[Valor máximo],nivel_resultado[Nivel de Conformidade],"Erro",1) -> SATISFATÓRIO
B12: Parecer | C12: =_xlfn.XLOOKUP(Table9[[#Totals],[Pontução]],nivel_resultado[Valor máximo],nivel_resultado[Parecer],"Erro",1) -> Sem ressalva quanto a contratação

Sheet Verificação
A1: {=_xlfn.CONCAT( "Due Diligence | ", MID(CELL("filename",A1),FIND("]",CELL("filename",B4))+1,255))} -> Due Diligence | Verificação
A2: Aqui você configura os dados de verificação utilizados na sua empresa
B4: Código | C4: Critério | D4: Resposta | E4: Nível
B5: VF01 | C5: Há envolvimento com Agente Público? | D5: Sim | E5: 4
B6: VF02 | C6: Acordo de Joint Venture? | D6: Sim | E6: 4
B7: VF03 | C7: Acordo relativo a distribuição ou venda de produtos ou serviços? | D7: Sim | E7: 4
B8: VF04 | C8: Contratos relativos a compras de licenças ou registros (software)? | D8: Sim | E8: 3
B9: VF05 | C9: Serviço de Consultoria Estratégica e/ou de Negócios (Planejamento Estratégico, Auditoria, Recursos Humanos, etc.)? | D9: Sim | E9: 3

Sheet Critérios
A1: {=_xlfn.CONCAT("Due Diligence | ", MID(CELL("filename",A1),FIND("]",CELL("filename",B4))+1,255))} -> Due Diligence | Critérios
A2: Aqui você configura os critérios utilizados na sua empresa
B4: Departamento | C4: Nível | D4: codigo | E4: Criterio | F4: Resposta | G4: Pontuação
B5: Compras | C5: 1 | D5: OV01 | E5: O fornecedor tem as experiências e credenciais necessárias para atender a demanda? | F5: Não | G5: 100
B6: Compras | C6: 1 | D6: OV02 | E6: A natureza dos bens ou serviços a serem fornecidos estão em conformidade com o CNAE (Classificação Nacional de Atividades Econômicas) do fornecedor? | F6: Não | G6: 100
B7: Compliance | C7: 1 | D7: CP01 | E7: Existe situação de conflito de interesses? (Empregados/dependentes x Sócios/Administradores/Profissionais envolvidos na negociação/Pessoas relacionadas) | F7: Sim | G7: 100
B8: Compliance | C8: 1 | D8: CP02 | E8: Buscas na internet e mídia revelam problemas graves relativos à reputação e integridade do fornecedor? | F8: Sim | G8: 100
B9: Compliance | C9: 1 | D9: CP03 | E9: O fornecedor (e seus sócios/administradores) foi ou é réu em ações judiciais/administrativas, inquéritos civis ou policiais relacionados a descumprimento das leis e/ou desvios de conduta em geral? | F9: Sim | G9: 100
B10: Compliance | C10: 1 | D10: CP04 | E10: O fornecedor tem relação familiar/parentesco com agentes do públicos? | F10: Sim | G10: 50
B11: Compliance | C11: 1 | D11: CP05 | E11: O fornecedor possui algum sócio que é agente do público ou familar/parente do agente público? | F11: Sim | G11: 50
B12: Compliance | C12: 1 | D12: CP06 | E12: O fornecedor já trabalhou como agente público em um nível elevado, ou em uma agência/órgão relevante para o trabalho que vai realizar? | F12: Sim | G12: 50
B13: Compliance | C13: 1 | D13: CP07 | E13: Foram identificados “Red Flags”? | F13: Sim | G13: 50
B14: Compliance | C14: 1 | D14: CP08 | E14: Foi identificado alto risco relacionado à Segurança da Informação? (compartilhamento de dados, fragilidades quanto a integridade, confidencialidade ou disponibilidade, não atendimento a LGPD, etc.)? | F14: Sim | G14: 100
B15: Compliance | C15: 1 | D15: CP09 | E15: Na prestação de serviço o fornecedor envolverá a participação de representantes externos ou subcontratados ? | F15: Sim | G15: 50
B16: Compliance | C16: 4 | D16: CP10 | E16: O fornecedor possui Código de Conduta e/ou Ética? | F16: Não | G16: 50
... B27: Legal | C27: 2 | D27: LG04 | E27: Será formalizado contrato contendo cláusulas obrigatórias de compliance ao fornecedor (envolvendo Código de Conduta, Anticorrupção, Confidencialidade, Conflito de Interesses, Concorrência Leal, etc.)? | F27: Não | G27: 50

Sheet Parâmetros
A1: {=_xlfn.CONCAT("Due Diligence | ", MID(CELL("filename",A1),FIND("]",CELL("filename",B4))+1,255))} -> Due Diligence | Parâmetros
A2: Aqui você configura os parâmetros utilizados na sua empresa
B4: Nivel | C4: Risco
B5: 1 | C5: Baixo
B6: 2 | C6: Médio
B7: 3 | C7: Alto
B8: 4 | C8: Crítico
B11: Valor máximo | C11: Nivel de Conformidade | D11: Parecer
B12: 49 | C12: SATISFATÓRIO | D12: Sem ressalva quanto a contratação
B13: 99 | C13: PONTO DE ATENÇÃO | D13: Submeter restrição para aprovação
B14: 99999999999 | C14: INSATISFATÓRIO | D14: Avaliar a contratação de outro fornecedor
B17: Valor máx demanda | C17: Valor máx anual | D17: Nível
B18: 50000 | C18: 500000 | D18: 1
B19: 200000 | C19: 1000000 | D19: 2
B20: 99999999999 | C20: 99999999999 | D20: 3
B23: Natureza | C23: Nível
B24: Assessoria Jurídica | C24: 3
B25: Serviço de Consultoria Estratégica e/ou de Negócios (Planejamento Estratégico, Auditoria, Recursos Humanos, etc.)? | C25: 3
B26: Despachante | C26: 3
B27: Agente Intermediário | C27: 3
B28: Instituição Filantrópica | C28: 3
B29: ONG | C29: 3
B30: Coleta de Resíduos | C30: 3
B31: Associação Desportiva | C31: 3
B32: Outros | C32: 1
